BEGIN:VCALENDAR
VERSION:2.0
PRODID:icalendar-ruby
CALSCALE:GREGORIAN
METHOD:PUBLISH
BEGIN:VEVENT
DTSTAMP:20260425T113506Z
UID:5-398018@thepentecostalchurch.org
DTSTART:20261025T153000Z
DTEND:20261025T163000Z
CLASS:PUBLIC
CREATED:20260424T212500
DESCRIPTION:Sunday Worship
LAST-MODIFIED:20260424T212500
LOCATION:
SUMMARY:Sunday Worship
URL;VALUE=URI:https://www.thepentecostalchurch.org/events/sunday-worship/20
 26-10-25
END:VEVENT
END:VCALENDAR
