BEGIN:VCALENDAR
VERSION:2.0
PRODID:icalendar-ruby
CALSCALE:GREGORIAN
METHOD:PUBLISH
BEGIN:VEVENT
DTSTAMP:20260421T074548Z
UID:5-391751@thepentecostalchurch.org
DTSTART:20261004T153000Z
DTEND:20261004T163000Z
CLASS:PUBLIC
CREATED:20260420T195828
DESCRIPTION:Sunday Worship
LAST-MODIFIED:20260420T195828
LOCATION:
SUMMARY:Sunday Worship
URL;VALUE=URI:https://www.thepentecostalchurch.org/events/sunday-worship/20
 26-10-04
END:VEVENT
END:VCALENDAR
