BEGIN:VCALENDAR
VERSION:2.0
PRODID:icalendar-ruby
CALSCALE:GREGORIAN
METHOD:PUBLISH
BEGIN:VEVENT
DTSTAMP:20260421T001937Z
UID:5-391486@thepentecostalchurch.org
DTSTART:20260906T153000Z
DTEND:20260906T163000Z
CLASS:PUBLIC
CREATED:20260420T172338
DESCRIPTION:Sunday Worship
LAST-MODIFIED:20260420T172338
LOCATION:
SUMMARY:Sunday Worship
URL;VALUE=URI:https://www.thepentecostalchurch.org/events/sunday-worship/20
 26-09-06
END:VEVENT
END:VCALENDAR
